BEGIN:VCALENDAR
VERSION:2.0
PRODID:-//Szent József Plébánia, Nagykanizsa - ECPv6.15.20//NONSGML v1.0//EN
CALSCALE:GREGORIAN
METHOD:PUBLISH
X-WR-CALNAME:Szent József Plébánia, Nagykanizsa
X-ORIGINAL-URL:https://www.szentjozsefplebania.hu
X-WR-CALDESC:Események Szent József Plébánia, Nagykanizsa
REFRESH-INTERVAL;VALUE=DURATION:PT1H
X-Robots-Tag:noindex
X-PUBLISHED-TTL:PT1H
BEGIN:VTIMEZONE
TZID:UTC
BEGIN:STANDARD
TZOFFSETFROM:+0000
TZOFFSETTO:+0000
TZNAME:UTC
DTSTART:20250101T000000
END:STANDARD
END:VTIMEZONE
BEGIN:VEVENT
DTSTART;TZID=UTC:20260425T105000
DTEND;TZID=UTC:20260425T143800
DTSTAMP:20260419T130555
CREATED:20260314T091948Z
LAST-MODIFIED:20260314T091948Z
UID:3635-1777114200-1777127880@www.szentjozsefplebania.hu
SUMMARY:Őrtilosi kirándulás\, szentmisével
DESCRIPTION:Április 25-én\, szombaton ellátogatunk az Őrtilos-Szentmihályhegyi kápolnába\, ahol Szent Mihályhoz imádkozunk és szentmisén veszünk részt Csorba Tamás plébános celebrálásával. Indulás Nagykanizsáról a 10.50 órai vonattal. Visszafelé a 14.38 órai vonattal jövünk. Az utazás önköltséges\, enni-innivalót hozzunk magunkkal. Várunk szeretettel mindenkit.
URL:https://www.szentjozsefplebania.hu/esemeny/ortilosi-kirandulas-szentmisevel/
LOCATION:Őrtilos-Szentmihályhegy
ORGANIZER;CN="Szent J%C3%B3zsef Pl%C3%A9b%C3%A1nia%2C Nagykanizsa":MAILTO:iroda@szentjozsefplebania.hu
END:VEVENT
END:VCALENDAR