BEGIN:VCALENDAR
VERSION:2.0
PRODID:-//Szent József Plébánia, Nagykanizsa - ECPv6.15.20//NONSGML v1.0//EN
CALSCALE:GREGORIAN
METHOD:PUBLISH
X-ORIGINAL-URL:https://www.szentjozsefplebania.hu
X-WR-CALDESC:Események Szent József Plébánia, Nagykanizsa
REFRESH-INTERVAL;VALUE=DURATION:PT1H
X-Robots-Tag:noindex
X-PUBLISHED-TTL:PT1H
BEGIN:VTIMEZONE
TZID:UTC
BEGIN:STANDARD
TZOFFSETFROM:+0000
TZOFFSETTO:+0000
TZNAME:UTC
DTSTART:20250101T000000
END:STANDARD
END:VTIMEZONE
BEGIN:VEVENT
DTSTART;TZID=UTC:20260220T170000
DTEND;TZID=UTC:20260403T175500
DTSTAMP:20260419T134545
CREATED:20260210T081337Z
LAST-MODIFIED:20260321T104311Z
UID:3613-1771606800-1775238900@www.szentjozsefplebania.hu
SUMMARY:Keresztúti ájtatosságok
DESCRIPTION:Keresztúti ájtatosságra hívjuk a kedves testvéreket templomunkba nagyböjt péntekein\, 17 órától az alábbiak szerint: \nfebruár 20.\, péntek (plébániai képviselő testület)\nfebruár 27.\, péntek (énekkarok)\nmárcius 6.\, péntek (rózsafüzér társulat)\nmárcius 13.\, péntek (Mária-kör)\nmárcius 20.\, péntek (férfi imacsoport)\nmárcius 27.\, péntek (hittanosok)\náprilis 3.\, nagypéntek (plébános)
URL:https://www.szentjozsefplebania.hu/esemeny/keresztuti-ajtatossagok-6/
LOCATION:Nagykanizsa\, Zárda u. 1/A
ORGANIZER;CN="Szent J%C3%B3zsef Pl%C3%A9b%C3%A1nia%2C Nagykanizsa":MAILTO:iroda@szentjozsefplebania.hu
END:VEVENT
BEGIN:VEVENT
DTSTART;TZID=UTC:20260310T190000
DTEND;TZID=UTC:20260318T194500
DTSTAMP:20260419T134545
CREATED:20260209T101734Z
LAST-MODIFIED:20260209T101734Z
UID:3610-1773169200-1773863100@www.szentjozsefplebania.hu
SUMMARY:Szent József-imakilenced
DESCRIPTION:Templombúcsúnkra készülve imakilencedet végzünk férfi testvéreinkkel\, amelyben Szent Józsefhez\, a Boldogságos Szűz Mária jegyeséhez fohászkodunk. \nAz imádság helyszíne: a plébánia emeleti terme. \nAz imakilenced időpontjai:\n1. nap\, március 10.\, kedd\, 19 óra\n2. nap\, március 11.\, szerda\, 19 óra\n3. nap\, március 12.\, csütörtök\, 19 óra\n4. nap\, március 13.\, péntek\, 19 óra\n5. nap\, március 14.\, szombat\, 19 óra\n6. nap\, március 15.\, vasárnap\, 19 óra\n7. nap\, március 16.\, hétfő\, 19 óra\n8. nap\, március 17.\, kedd\, 19 óra\n9. nap\, március 18.\, szerda\, 19 óra
URL:https://www.szentjozsefplebania.hu/esemeny/szent-jozsef-imakilenced-5/
END:VEVENT
BEGIN:VEVENT
DTSTART;TZID=UTC:20260319T180000
DTEND;TZID=UTC:20260319T190000
DTSTAMP:20260419T134545
CREATED:20260221T125121Z
LAST-MODIFIED:20260221T125121Z
UID:3620-1773943200-1773946800@www.szentjozsefplebania.hu
SUMMARY:Templombúcsú
DESCRIPTION:Szeretettel várjuk plébániánk és városunk hívő közösségét templombúcsúnk ünnepére\, 2026. március 19-én\, csütörtökön\, 18 órakor. Az ünnepi szentmisét Bíró László nyugalmazott tábori püspök fogja bemutatni.
URL:https://www.szentjozsefplebania.hu/esemeny/templombucsu/
LOCATION:Nagykanizsa\, Zárda u. 1/A
ORGANIZER;CN="Szent J%C3%B3zsef Pl%C3%A9b%C3%A1nia%2C Nagykanizsa":MAILTO:iroda@szentjozsefplebania.hu
END:VEVENT
BEGIN:VEVENT
DTSTART;TZID=UTC:20260328T090000
DTEND;TZID=UTC:20260328T120000
DTSTAMP:20260419T134545
CREATED:20260314T134519Z
LAST-MODIFIED:20260314T134519Z
UID:3637-1774688400-1774699200@www.szentjozsefplebania.hu
SUMMARY:Plébániatemplom nagytakarítása
DESCRIPTION:Várjuk a testvérek segítségét templomunk takarításához.
URL:https://www.szentjozsefplebania.hu/esemeny/plebaniatemplom-nagytakaritasa-4/
LOCATION:Nagykanizsa\, Zárda u. 1/A
ORGANIZER;CN="Szent J%C3%B3zsef Pl%C3%A9b%C3%A1nia%2C Nagykanizsa":MAILTO:iroda@szentjozsefplebania.hu
END:VEVENT
END:VCALENDAR