BEGIN:VCALENDAR
VERSION:2.0
PRODID:-//Szent József Plébánia, Nagykanizsa - ECPv6.15.20//NONSGML v1.0//EN
CALSCALE:GREGORIAN
METHOD:PUBLISH
X-ORIGINAL-URL:https://www.szentjozsefplebania.hu
X-WR-CALDESC:Események Szent József Plébánia, Nagykanizsa
REFRESH-INTERVAL;VALUE=DURATION:PT1H
X-Robots-Tag:noindex
X-PUBLISHED-TTL:PT1H
BEGIN:VTIMEZONE
TZID:UTC
BEGIN:STANDARD
TZOFFSETFROM:+0000
TZOFFSETTO:+0000
TZNAME:UTC
DTSTART:20250101T000000
END:STANDARD
END:VTIMEZONE
BEGIN:VEVENT
DTSTART;TZID=UTC:20260202T173000
DTEND;TZID=UTC:20260210T180000
DTSTAMP:20260419T153055
CREATED:20260109T191617Z
LAST-MODIFIED:20260131T110300Z
UID:3561-1770053400-1770746400@www.szentjozsefplebania.hu
SUMMARY:Lourdes-i imakilenced
DESCRIPTION:Szeretettel hívjuk a testvéreket a február 2-án\, hétfőn\, Gyertyaszentelő Boldogasszony ünnepén\, 17.30 órakor kezdődő lourdes-i imakilenced imádkozására\, melyet február 2-től kilenc napon át minden nap végzünk a betegek gyógyulásáért. \nAz imádság hétköznapokon a plébánia imatermében van megtartva. Vasárnap\, mivel a szentmisék olyankor a templomban vannak\, az imakilenced is ott van (a lourdes-i barlang előtt). \nIdőpontok: \n1. nap: február 2.\, hétfő\, 17.30 óra\, plébánia\n2. nap: február 3.\, kedd\, 17.30 óra\, plébánia\n3. nap: február 4.\, szerda\, 17.30 óra\, plébánia\n4. nap: február 5.\, csütörtök\, 17.30 óra\, plébánia\n5. nap: február 6.\, péntek\, 17.30 óra\, plébánia\n6. nap: február 7.\, szombat\, 17.30 óra\, plébánia\n7. nap: február 8.\, vasárnap\, 17.30 óra\, TEMPLOM\n8. nap: február 9.\, hétfő\, 17.30 óra\, plébánia\n9. nap: február 10.\, kedd\, 17.30 óra\, plébánia \nLourdes (ejtsd: Lurd) Franciaországban található\, ahol a gyermek Bernadette Soubirous-nak tizennyolcszor jelent meg a Boldogságos Szűz Mária\, amit csodás gyógyulások is követtek. Az első jelenés 1858. február 11-én történt\, majd röviddel utána a többi. Bernadette 22 évesen zárdába vonult\, majd mindössze 35 éves volt\, amikor súlyos betegségben meghalt. A példás életű apácát 1933-ban szentté avatta XI. Piusz pápa. Bernadette épen maradt testét üvegkoporsóban őrzik a Saint-Gilgard kolostor templomában.\nMagyarországon nagyon hamar elterjedt a lourdes-i jelenések híre\, és igen komoly tiszteletadás fejlődött köré. Nagyon sok templomban megjelentek a lourdes-i barlangok\, amelyekben Máriát\, a jelenéseknek megfelelően rózsafüzérrel\, Bernadette-et pedig Mária előtt térdelve ábrázolják. A lourdesi imakilenced gyakorlata is hamar kialakult\, melyet február 11-e előtt 9 napig végzünk\, február 2-án (Urunk bemutatásának ünnepén) kezdve.\nA lourdes-i jelenések és a csodás gyógyulások hatására II. János Pál pápa 1992-ben a betegek világnapjának jelölte ki február 11-ét\, amely egyúttal a Lourdes-i Boldogságos Szűz Mária liturgikus emléknapja is. Az egyház ezen a napon szentmise keretében szolgáltatja ki a betegek kenetének szentségét.
URL:https://www.szentjozsefplebania.hu/esemeny/lourdes-i-imakilenced-5/
LOCATION:Nagykanizsa\, Ady E. u. 15 vagy Zárda u. 1/A
ORGANIZER;CN="Szent J%C3%B3zsef Pl%C3%A9b%C3%A1nia%2C Nagykanizsa":MAILTO:iroda@szentjozsefplebania.hu
END:VEVENT
BEGIN:VEVENT
DTSTART;TZID=UTC:20260202T180000
DTEND;TZID=UTC:20260202T190000
DTSTAMP:20260419T153055
CREATED:20260123T131423Z
LAST-MODIFIED:20260131T110030Z
UID:3583-1770055200-1770058800@www.szentjozsefplebania.hu
SUMMARY:Urunk bemutatása a templomban (Gyertyaszentelő Boldogasszony)
DESCRIPTION:Február 2-án ünnepli egyházunk Urunk bemutatásának ünnepét (Gyertyaszentelő Boldogasszony).\nA plébánia imatermében 18 órakor\, a palini kápolnában szintén 18 órakor lesz igeliturgia keretében ünnepi szertartás\, melyben megszenteljük a hívek gyertyáit. Gyertya kapható február 1-jén vasárnap templomainkban.\nUgyanezen a napon kezdődik a lourdes-i imakilenced is\, amit a betegek gyógyulásáért végzünk (lásd külön eseményben).
URL:https://www.szentjozsefplebania.hu/esemeny/urunk-bemutatasa-a-templomban-gyertyaszentelo-boldogasszony/
LOCATION:Nagykanizsa\, Ady E. u. 15 és Alkotmány út 87/A
ORGANIZER;CN="Szent J%C3%B3zsef Pl%C3%A9b%C3%A1nia%2C Nagykanizsa":MAILTO:iroda@szentjozsefplebania.hu
END:VEVENT
BEGIN:VEVENT
DTSTART;TZID=UTC:20260211T120000
DTEND;TZID=UTC:20260211T130000
DTSTAMP:20260419T153055
CREATED:20260109T204206Z
LAST-MODIFIED:20260207T112001Z
UID:3570-1770811200-1770814800@www.szentjozsefplebania.hu
SUMMARY:Betegek kenetének kiszolgáltatása
DESCRIPTION:2026. február 11-e a Lourdes-i Boldogságos Szűz Mária liturgikus emléknapja\, akihez csodás gyógyulások kapcsolódnak\, ezért ezt a napot II. János Pál pápa a betegek világnapjává tette. Ezen a napon kiszolgáltatjuk a betegek kenetét a 12 órakor kezdődő szentmisében a plébánia imatermében. A szentséget a kegyelem állapotában lehet felvenni\, amihez megelőzően szentgyónás elvégzése szükséges. Az alábbi időpontokban biztosítunk gyónási lehetőséget a szentséget felvenni kívánó testvéreknek: \n\n2026. február 9.\, hétfő\, 17 óra\, plébánia\n2026. február 10.\, kedd\, 17 óra\, plébánia\n2026. február 11\, szerda\, 11 óra\, plébánia
URL:https://www.szentjozsefplebania.hu/esemeny/betegek-kenetenek-kiszolgaltatasa-2/
LOCATION:Nagykanizsa\, Ady E. u. 15.
ORGANIZER;CN="Szent J%C3%B3zsef Pl%C3%A9b%C3%A1nia%2C Nagykanizsa":MAILTO:iroda@szentjozsefplebania.hu
END:VEVENT
BEGIN:VEVENT
DTSTART;TZID=UTC:20260215T110000
DTEND;TZID=UTC:20260215T113000
DTSTAMP:20260419T153055
CREATED:20260127T152704Z
LAST-MODIFIED:20260127T152717Z
UID:3593-1771153200-1771155000@www.szentjozsefplebania.hu
SUMMARY:Elsőáldozói szülői tájékoztató
DESCRIPTION:Tájékoztatót tartunk templomunkban 2026. február 15-én\, vasárnap a 10 órai szentmise után mindazon szülőknek\, akik gyermekükkel templomunkban gyakorolják vallási életüket\, és szeretnék\, ha gyermekük templomunkban lenne elsőáldozó.
URL:https://www.szentjozsefplebania.hu/esemeny/elsoaldozoi-szuloi-tajekoztato/
LOCATION:Nagykanizsa\, Zárda u. 1/A
ORGANIZER;CN="Szent J%C3%B3zsef Pl%C3%A9b%C3%A1nia%2C Nagykanizsa":MAILTO:iroda@szentjozsefplebania.hu
END:VEVENT
BEGIN:VEVENT
DTSTART;TZID=UTC:20260215T180000
DTEND;TZID=UTC:20260215T190000
DTSTAMP:20260419T153055
CREATED:20260109T205546Z
LAST-MODIFIED:20260109T205546Z
UID:3572-1771178400-1771182000@www.szentjozsefplebania.hu
SUMMARY:Párok megáldása
DESCRIPTION:Február 15-én\, vasárnap várjuk szeretettel a párokat az esti szentmisére\, melynek végén külön-külön megáldjuk őket.
URL:https://www.szentjozsefplebania.hu/esemeny/parok-megaldasa/
LOCATION:Nagykanizsa\, Zárda u. 1/A
ORGANIZER;CN="Szent J%C3%B3zsef Pl%C3%A9b%C3%A1nia%2C Nagykanizsa":MAILTO:iroda@szentjozsefplebania.hu
END:VEVENT
BEGIN:VEVENT
DTSTART;TZID=UTC:20260218T120000
DTEND;TZID=UTC:20260218T170000
DTSTAMP:20260419T153055
CREATED:20260214T125738Z
LAST-MODIFIED:20260214T125738Z
UID:3617-1771416000-1771434000@www.szentjozsefplebania.hu
SUMMARY:Hamvazószerda
DESCRIPTION:Hamvazószerdával elkezdődik a nagyböjt. Ezen a napon szentmise délben (az imateremben) és 16 órakor (a palini kápolnában) lesz. Mindkét szentmisében kiszolgáltatjuk a hamvazás szentelményét. Hamvazószerda szigorú böjt: 18 és 60 év között háromszor lehet étkezni\, de csak egyszer jóllakni\, továbbá 14 év felett hústilalom van. A szigorú böjt nem vonatkozik a 14 éven aluli gyermekekre\, a betegekre\, a kismamákra és a nehéz fizikai munkát végzőkre.
URL:https://www.szentjozsefplebania.hu/esemeny/hamvazoszerda-2/
LOCATION:Nagykanizsa\, Ady E. u. 15 és Alkotmány út 87/A
ORGANIZER;CN="Szent J%C3%B3zsef Pl%C3%A9b%C3%A1nia%2C Nagykanizsa":MAILTO:iroda@szentjozsefplebania.hu
END:VEVENT
BEGIN:VEVENT
DTSTART;TZID=UTC:20260220T170000
DTEND;TZID=UTC:20260403T175500
DTSTAMP:20260419T153055
CREATED:20260210T081337Z
LAST-MODIFIED:20260321T104311Z
UID:3613-1771606800-1775238900@www.szentjozsefplebania.hu
SUMMARY:Keresztúti ájtatosságok
DESCRIPTION:Keresztúti ájtatosságra hívjuk a kedves testvéreket templomunkba nagyböjt péntekein\, 17 órától az alábbiak szerint: \nfebruár 20.\, péntek (plébániai képviselő testület)\nfebruár 27.\, péntek (énekkarok)\nmárcius 6.\, péntek (rózsafüzér társulat)\nmárcius 13.\, péntek (Mária-kör)\nmárcius 20.\, péntek (férfi imacsoport)\nmárcius 27.\, péntek (hittanosok)\náprilis 3.\, nagypéntek (plébános)
URL:https://www.szentjozsefplebania.hu/esemeny/keresztuti-ajtatossagok-6/
LOCATION:Nagykanizsa\, Zárda u. 1/A
ORGANIZER;CN="Szent J%C3%B3zsef Pl%C3%A9b%C3%A1nia%2C Nagykanizsa":MAILTO:iroda@szentjozsefplebania.hu
END:VEVENT
END:VCALENDAR