BEGIN:VCALENDAR
VERSION:2.0
PRODID:-//Szent József Plébánia, Nagykanizsa - ECPv6.15.20//NONSGML v1.0//EN
CALSCALE:GREGORIAN
METHOD:PUBLISH
X-WR-CALNAME:Szent József Plébánia, Nagykanizsa
X-ORIGINAL-URL:https://www.szentjozsefplebania.hu
X-WR-CALDESC:Események Szent József Plébánia, Nagykanizsa
REFRESH-INTERVAL;VALUE=DURATION:PT1H
X-Robots-Tag:noindex
X-PUBLISHED-TTL:PT1H
BEGIN:VTIMEZONE
TZID:UTC
BEGIN:STANDARD
TZOFFSETFROM:+0000
TZOFFSETTO:+0000
TZNAME:UTC
DTSTART:20250101T000000
END:STANDARD
END:VTIMEZONE
BEGIN:VEVENT
DTSTART;TZID=UTC:20260117T091000
DTEND;TZID=UTC:20260117T142500
DTSTAMP:20260419T183507
CREATED:20260109T184635Z
LAST-MODIFIED:20260114T081215Z
UID:3556-1768641000-1768659900@www.szentjozsefplebania.hu
SUMMARY:Látogatás a Mindszentyneumban
DESCRIPTION:Január 17-én\, szombaton a zalaegerszegi Mindszentyneumba látogatunk\, megtekinteni Mindszenty József bíboros\, hercegprímás életművének kiállítását. A Nagykanizsáról 9.10 órakor induló vonattal megyünk. Visszafelé a 14.25 órakor induló vonattal jövünk. Várjuk szeretettel a testvéreket. Az utazás és a belépőjegyek ára önköltséges!
URL:https://www.szentjozsefplebania.hu/esemeny/latogatas-a-mindszentyneumban/
LOCATION:Mindszentyneum\, Zalaegerszeg
ORGANIZER;CN="Szent J%C3%B3zsef Pl%C3%A9b%C3%A1nia%2C Nagykanizsa":MAILTO:iroda@szentjozsefplebania.hu
END:VEVENT
BEGIN:VEVENT
DTSTART;TZID=UTC:20260120T180000
DTEND;TZID=UTC:20260120T190000
DTSTAMP:20260419T183507
CREATED:20260109T192943Z
LAST-MODIFIED:20260116T163000Z
UID:3564-1768932000-1768935600@www.szentjozsefplebania.hu
SUMMARY:Ökumenikus imaóra
DESCRIPTION:Várunk szeretettel mindenkit ökumenikus imaóránkra\, melyre Szemerei János evangélikus püspök érkezik. Az imaórán az evangélikus kórus és plébániánk kórusa énekel. Az imaóra után szeretettel várunk mindenkit agapéra a plébánián.
URL:https://www.szentjozsefplebania.hu/esemeny/okumenikus-imaora-6/
LOCATION:Nagykanizsa\, Zárda u. 1/A
ORGANIZER;CN="Szent J%C3%B3zsef Pl%C3%A9b%C3%A1nia%2C Nagykanizsa":MAILTO:iroda@szentjozsefplebania.hu
END:VEVENT
BEGIN:VEVENT
DTSTART;TZID=UTC:20260125T080000
DTEND;TZID=UTC:20260125T190000
DTSTAMP:20260419T183507
CREATED:20260109T190518Z
LAST-MODIFIED:20260122T104004Z
UID:3559-1769328000-1769367600@www.szentjozsefplebania.hu
SUMMARY:Bibliák megáldása
DESCRIPTION:2019-ben Ferenc pápa elrendelte az Isten Igéjének vasárnapját\, amit az évközi liturgikus idő harmadik vasárnapjára helyezett\, így ezen a napon megáldjuk a szentírásokat és szent könyveket mindhárom szentmisén (Palinban 8 órakor\, az alsóvárosi templomban 10 és 18 órakor). Kérjük a híveket\, hozzák magukkal a bibliájukat\, imakönyveiket\, és helyezzék az oltár előtt kialakított helyre.
URL:https://www.szentjozsefplebania.hu/esemeny/bibliak-megaldasa-2/
LOCATION:Nagykanizsa\, Alkotmány út 87/A és Zárda u. 1/A.
ORGANIZER;CN="Szent J%C3%B3zsef Pl%C3%A9b%C3%A1nia%2C Nagykanizsa":MAILTO:iroda@szentjozsefplebania.hu
END:VEVENT
END:VCALENDAR