BEGIN:VCALENDAR
VERSION:2.0
PRODID:-//Szent József Plébánia, Nagykanizsa - ECPv6.15.20//NONSGML v1.0//EN
CALSCALE:GREGORIAN
METHOD:PUBLISH
X-ORIGINAL-URL:https://www.szentjozsefplebania.hu
X-WR-CALDESC:Események Szent József Plébánia, Nagykanizsa
REFRESH-INTERVAL;VALUE=DURATION:PT1H
X-Robots-Tag:noindex
X-PUBLISHED-TTL:PT1H
BEGIN:VTIMEZONE
TZID:UTC
BEGIN:STANDARD
TZOFFSETFROM:+0000
TZOFFSETTO:+0000
TZNAME:UTC
DTSTART:20240101T000000
END:STANDARD
END:VTIMEZONE
BEGIN:VEVENT
DTSTART;TZID=UTC:20250113T173000
DTEND;TZID=UTC:20251124T180000
DTSTAMP:20260420T035809
CREATED:20250104T163702Z
LAST-MODIFIED:20251018T092158Z
UID:3162-1736789400-1764007200@www.szentjozsefplebania.hu
SUMMARY:Énekes rózsafüzér
DESCRIPTION:2024. januárjától minden hétfőn\, 17.30 órától énekes rózsafüzér imádságra hívjuk a testvéreket. \nHúsvéthétfőtől pünkösdhétfőig ebben az időpontban (hétfőnként) a rózsafüzér helyett a világosság útja húsvéti ájtatosságot végezzük. \nVárjuk szeretettel a testvéreket. \nTervezett elmaradás 2025-ben: \n\naugusztus 4-én (liturgikus szünet miatt)
URL:https://www.szentjozsefplebania.hu/esemeny/enekes-rozsafuzer-3/
LOCATION:Nagykanizsa\, Zárda u. 1/A
ORGANIZER;CN="Szent J%C3%B3zsef Pl%C3%A9b%C3%A1nia%2C Nagykanizsa":MAILTO:iroda@szentjozsefplebania.hu
END:VEVENT
BEGIN:VEVENT
DTSTART;TZID=UTC:20250119T170000
DTEND;TZID=UTC:20251219T180000
DTSTAMP:20260420T035809
CREATED:20250215T142336Z
LAST-MODIFIED:20251018T090222Z
UID:3204-1737306000-1766167200@www.szentjozsefplebania.hu
SUMMARY:Szent József-áhítat
DESCRIPTION:2024. januártól minden hónap 19-én\, 17 órától Szent József-áhítatra hívjuk a testvéreket\, ahol a férfiak\, családapák megtéréséért imádkozunk.\nA Szent József-áhítat 2025. április 19-én\, nagyszombaton elmarad\, mivel a húsvéti liturgia elsőbbséget élvez\, illetve május 19-én\, hétfőn csak 17.30 óráig tart\, mivel 17.30 órától a világosság útja időszaki ájtatosságot végezzük azon a napon. Október 19-én\, vasárnap kivételesen 9.30 órakor kezdődik és 10 óráig tart az áhítat.\nVárunk szeretettel mindenkit.
URL:https://www.szentjozsefplebania.hu/esemeny/szent-jozsef-ahitat-3/
LOCATION:Nagykanizsa\, Zárda u. 1/A
ORGANIZER;CN="Szent J%C3%B3zsef Pl%C3%A9b%C3%A1nia%2C Nagykanizsa":MAILTO:iroda@szentjozsefplebania.hu
END:VEVENT
BEGIN:VEVENT
DTSTART;TZID=UTC:20250421T170000
DTEND;TZID=UTC:20251124T173000
DTSTAMP:20260420T035809
CREATED:20250327T112122Z
LAST-MODIFIED:20250621T123015Z
UID:3250-1745254800-1764005400@www.szentjozsefplebania.hu
SUMMARY:Alsóvárosi orgonaszó
DESCRIPTION:2023. július 3-án\, hétfőn elkezdődött új\, állandó jellegű zenei programunk\, az alsóvárosi orgonaszó\, melynek keretében húsvéttól adventig\, hétfőnként\, 17-től 17.30 óráig rövid orgonakoncertek\, improvizációs esték vannak az alsóvárosi Szent József plébániatemplomban\, melyre a belépés ingyenes. Az orgonakoncertek előadója Domján József\, plébániánk kántora\, illetve időnként vendég előadók játékát is hallhatjuk. A zenei program esetleges elmaradásáról/felfüggesztéséről plébániánk híreiben adunk tájékoztatást. Ha a zenei program esetleg liturgikus cselekménnyel ütközik\, úgy a liturgikus cselekmény elsőbbséget élvez\, s az orgonakoncert ilyenkor elmarad\, melyről szintén az aktuális hét híreiben/liturgikus rendjében adunk tájékoztatást. \nTervezett elmaradás 2025-ben: \n\nmájus 19.\, hétfő\, mivel 17 órától (19-e lévén) a Szent József-áhítat lesz helyette\njúlius 28.\, hétfő (szabadság miatt)\naugusztus 4.\, hétfő (szabadság miatt)
URL:https://www.szentjozsefplebania.hu/esemeny/alsovarosi-orgonaszo-2/
LOCATION:Nagykanizsa\, Zárda u. 1/A
ORGANIZER;CN="Szent J%C3%B3zsef Pl%C3%A9b%C3%A1nia%2C Nagykanizsa":MAILTO:iroda@szentjozsefplebania.hu
END:VEVENT
BEGIN:VEVENT
DTSTART;TZID=UTC:20250706T160000
DTEND;TZID=UTC:20250706T170000
DTSTAMP:20260420T035809
CREATED:20250522T152321Z
LAST-MODIFIED:20250623T095246Z
UID:3292-1751817600-1751821200@www.szentjozsefplebania.hu
SUMMARY:Palini elsőáldozás
DESCRIPTION:Palini elsőáldozás időpontja: 2025. július 6.\, vasárnap\, 16 óra. Szeretettel várjuk a testvéreket.\nProgram:\nJúlius 5.\, szombat:\n– 18 óra\, elsőáldozók gyóntatása és próbája\n– 19 óra\, szentmise\nJúlius 6.\, vasárnap:\n– reggel 8 órai szentmise ELMARAD\n– 16 óra\, elsőáldozási szentmise
URL:https://www.szentjozsefplebania.hu/esemeny/palini-elsoaldozas-2/
LOCATION:Nagykanizsa\, Alkotmány út 87/A
ORGANIZER;CN="Szent J%C3%B3zsef Pl%C3%A9b%C3%A1nia%2C Nagykanizsa":MAILTO:iroda@szentjozsefplebania.hu
END:VEVENT
BEGIN:VEVENT
DTSTART;TZID=UTC:20250712T070000
DTEND;TZID=UTC:20250712T170000
DTSTAMP:20260420T035809
CREATED:20250621T112748Z
LAST-MODIFIED:20250624T075815Z
UID:3314-1752303600-1752339600@www.szentjozsefplebania.hu
SUMMARY:Őrségi kirándulás
DESCRIPTION:Mai napon (06.24.) a busz betelt\, a jelentkezést lezártuk. \nSzeretettel hívjuk plébániánk hívőit egy közös kirándulásra 2025. július 12-én (szombaton)\, melynek úticélja az Őrség gyönyörű vidéke. Ez a nap lehetőséget ad arra\, hogy testileg-lelkileg felfrissüljünk\, és együtt örüljünk a szolgálatból fakadó közösségnek.\nKirándulásunk programja: \n\nmeglátogatjuk a veleméri Szentháromság-templomot\, amely különleges\nfényhatásairól híres\nmegtekintjük az Szentgyörgyvölgyi kazettás mennyezetű református templomot\,\nrészt veszünk egy réteskóstolón\,\nvalamint megcsodálhatjuk a tökmagolaj készítés és a korongozás mesterségét is\,\nellátogatunk az Őrségi Népi Műemlékegyütteshez\, ahol betekintést nyerhetünk a\ntérség hagyományos paraszti életformájába.\n\nA kirándulásra külön busszal megyünk\, mely a szolgálattevők számára ingyenes\, családtagjaik és mindenki más számára 10.000 Ft/fő. A programhoz tartozó belépők és kóstolók hozzávetőleges költsége 5000 Ft/fő\, amit a helyszínen kell majd rendezni\, és ez mindenkire vonatkozik. \nKérünk mindenkit\, hogy részvételi szándékát mielőbb jelezze a plébánián (8800 Nagykanizsa\, Ady Endre utca 15.)\, hivatali időben\, telefonon (93-787-965) vagy e-mailben (iroda@szentjozsefplebania.hu). \nPlébánia hivatal nyitvatartási rendje:\nHétfő: 9-11 óráig\nKedd: 9-11 óráig\nSzerda: 9-11 óráig\nCsütörtök: 14-17 óráig.\nPéntek: –\nSzombat: –\nVasárnap: – \nFigyelem! Messengeren plébános úrnál\, mise előtt-után\, Aldiban\, postán kántor úrnál két csekkfeladás között stb. stb. jelentkezés NINCS!!! Kizárólag a fent magadott módon\, időben és helyen!
URL:https://www.szentjozsefplebania.hu/esemeny/orsegi-kirandulas/
LOCATION:Őrség
ORGANIZER;CN="Szent J%C3%B3zsef Pl%C3%A9b%C3%A1nia%2C Nagykanizsa":MAILTO:iroda@szentjozsefplebania.hu
END:VEVENT
BEGIN:VEVENT
DTSTART;TZID=UTC:20250719T140000
DTEND;TZID=UTC:20250719T160000
DTSTAMP:20260420T035809
CREATED:20250522T155127Z
LAST-MODIFIED:20250705T124946Z
UID:3294-1752933600-1752940800@www.szentjozsefplebania.hu
SUMMARY:Palini közösségi délután
DESCRIPTION:Szeretettel várjuk a palini testvéreket a palini fília közösségi alkalmára július 19-én\, szombaton\, 14 órakor\, a palini kápolna udvarába (rossz idő esetén a kápolna közösségi termébe).
URL:https://www.szentjozsefplebania.hu/esemeny/palini-kozossegi-delutan/
LOCATION:Nagykanizsa\, Alkotmány út 87/A
ORGANIZER;CN="Szent J%C3%B3zsef Pl%C3%A9b%C3%A1nia%2C Nagykanizsa":MAILTO:iroda@szentjozsefplebania.hu
END:VEVENT
END:VCALENDAR