BEGIN:VCALENDAR
VERSION:2.0
PRODID:-//Szent József Plébánia, Nagykanizsa - ECPv6.15.20//NONSGML v1.0//EN
CALSCALE:GREGORIAN
METHOD:PUBLISH
X-WR-CALNAME:Szent József Plébánia, Nagykanizsa
X-ORIGINAL-URL:https://www.szentjozsefplebania.hu
X-WR-CALDESC:Események Szent József Plébánia, Nagykanizsa
REFRESH-INTERVAL;VALUE=DURATION:PT1H
X-Robots-Tag:noindex
X-PUBLISHED-TTL:PT1H
BEGIN:VTIMEZONE
TZID:UTC
BEGIN:STANDARD
TZOFFSETFROM:+0000
TZOFFSETTO:+0000
TZNAME:UTC
DTSTART:20240101T000000
END:STANDARD
END:VTIMEZONE
BEGIN:VEVENT
DTSTART;TZID=UTC:20250113T173000
DTEND;TZID=UTC:20251124T180000
DTSTAMP:20260420T054002
CREATED:20250104T163702Z
LAST-MODIFIED:20251018T092158Z
UID:3162-1736789400-1764007200@www.szentjozsefplebania.hu
SUMMARY:Énekes rózsafüzér
DESCRIPTION:2024. januárjától minden hétfőn\, 17.30 órától énekes rózsafüzér imádságra hívjuk a testvéreket. \nHúsvéthétfőtől pünkösdhétfőig ebben az időpontban (hétfőnként) a rózsafüzér helyett a világosság útja húsvéti ájtatosságot végezzük. \nVárjuk szeretettel a testvéreket. \nTervezett elmaradás 2025-ben: \n\naugusztus 4-én (liturgikus szünet miatt)
URL:https://www.szentjozsefplebania.hu/esemeny/enekes-rozsafuzer-3/
LOCATION:Nagykanizsa\, Zárda u. 1/A
ORGANIZER;CN="Szent J%C3%B3zsef Pl%C3%A9b%C3%A1nia%2C Nagykanizsa":MAILTO:iroda@szentjozsefplebania.hu
END:VEVENT
BEGIN:VEVENT
DTSTART;TZID=UTC:20250119T170000
DTEND;TZID=UTC:20251219T180000
DTSTAMP:20260420T054002
CREATED:20250215T142336Z
LAST-MODIFIED:20251018T090222Z
UID:3204-1737306000-1766167200@www.szentjozsefplebania.hu
SUMMARY:Szent József-áhítat
DESCRIPTION:2024. januártól minden hónap 19-én\, 17 órától Szent József-áhítatra hívjuk a testvéreket\, ahol a férfiak\, családapák megtéréséért imádkozunk.\nA Szent József-áhítat 2025. április 19-én\, nagyszombaton elmarad\, mivel a húsvéti liturgia elsőbbséget élvez\, illetve május 19-én\, hétfőn csak 17.30 óráig tart\, mivel 17.30 órától a világosság útja időszaki ájtatosságot végezzük azon a napon. Október 19-én\, vasárnap kivételesen 9.30 órakor kezdődik és 10 óráig tart az áhítat.\nVárunk szeretettel mindenkit.
URL:https://www.szentjozsefplebania.hu/esemeny/szent-jozsef-ahitat-3/
LOCATION:Nagykanizsa\, Zárda u. 1/A
ORGANIZER;CN="Szent J%C3%B3zsef Pl%C3%A9b%C3%A1nia%2C Nagykanizsa":MAILTO:iroda@szentjozsefplebania.hu
END:VEVENT
BEGIN:VEVENT
DTSTART;TZID=UTC:20250421T170000
DTEND;TZID=UTC:20251124T173000
DTSTAMP:20260420T054002
CREATED:20250327T112122Z
LAST-MODIFIED:20250621T123015Z
UID:3250-1745254800-1764005400@www.szentjozsefplebania.hu
SUMMARY:Alsóvárosi orgonaszó
DESCRIPTION:2023. július 3-án\, hétfőn elkezdődött új\, állandó jellegű zenei programunk\, az alsóvárosi orgonaszó\, melynek keretében húsvéttól adventig\, hétfőnként\, 17-től 17.30 óráig rövid orgonakoncertek\, improvizációs esték vannak az alsóvárosi Szent József plébániatemplomban\, melyre a belépés ingyenes. Az orgonakoncertek előadója Domján József\, plébániánk kántora\, illetve időnként vendég előadók játékát is hallhatjuk. A zenei program esetleges elmaradásáról/felfüggesztéséről plébániánk híreiben adunk tájékoztatást. Ha a zenei program esetleg liturgikus cselekménnyel ütközik\, úgy a liturgikus cselekmény elsőbbséget élvez\, s az orgonakoncert ilyenkor elmarad\, melyről szintén az aktuális hét híreiben/liturgikus rendjében adunk tájékoztatást. \nTervezett elmaradás 2025-ben: \n\nmájus 19.\, hétfő\, mivel 17 órától (19-e lévén) a Szent József-áhítat lesz helyette\njúlius 28.\, hétfő (szabadság miatt)\naugusztus 4.\, hétfő (szabadság miatt)
URL:https://www.szentjozsefplebania.hu/esemeny/alsovarosi-orgonaszo-2/
LOCATION:Nagykanizsa\, Zárda u. 1/A
ORGANIZER;CN="Szent J%C3%B3zsef Pl%C3%A9b%C3%A1nia%2C Nagykanizsa":MAILTO:iroda@szentjozsefplebania.hu
END:VEVENT
BEGIN:VEVENT
DTSTART;TZID=UTC:20250421T173000
DTEND;TZID=UTC:20250609T180000
DTSTAMP:20260420T054002
CREATED:20250327T110632Z
LAST-MODIFIED:20250524T144055Z
UID:3248-1745256600-1749492000@www.szentjozsefplebania.hu
SUMMARY:Via lucis
DESCRIPTION:A via lucis (világosság útja\, örömút) a keresztúthoz hasonló\, 14 állomásból álló ájtatosság\, melyben Jézus feltámadásának állomásait elmélkedjük át. A Világosság útja ott kezdődik\, ahol a keresztút véget ér. A Via Lucis a hagyományos keresztúti ájtatosság mintájára a ’80-as évek végén kezdett elterjedni a hívek között Sabino Palumbieri szalézi atya kezdeményezésére. \nPlébániatemplomunkban húsvéthétfőtől pünkösdhétfőig minden hétfőn végezzük az öröm útját az alábbi időpontokban: \n– április 21.\, húsvéthétfő\, 17.30 óra\n– április 28.\, hétfő\, 17.30 óra\n– május 5.\, hétfő\, 17.30 óra\n– május 12.\, hétfő\, 17.30 óra\n– május 19.\, hétfő\, 17.30 óra\n– május 26.\, hétfő\, 17.30 óra\n– június 2.\, hétfő\, 17.30 óra\n– június 9. pünkösdhétfő\, 17.30 óra \nVárjuk szeretettel a testvéreket!
URL:https://www.szentjozsefplebania.hu/esemeny/via-lucis-2/
LOCATION:Nagykanizsa\, Zárda u. 1/A
ORGANIZER;CN="Szent J%C3%B3zsef Pl%C3%A9b%C3%A1nia%2C Nagykanizsa":MAILTO:iroda@szentjozsefplebania.hu
END:VEVENT
BEGIN:VEVENT
DTSTART;TZID=UTC:20250607T090000
DTEND;TZID=UTC:20250607T160000
DTSTAMP:20260420T054002
CREATED:20250522T124021Z
LAST-MODIFIED:20250529T141518Z
UID:3287-1749286800-1749312000@www.szentjozsefplebania.hu
SUMMARY:Egyházközségi nap Miklósfán
DESCRIPTION:A Katolikus Egyház A remény zarándokai mottóval meghirdetett 2025-ös Szentév programjaihoz csatlakozva a Szent József Plébánia 2025. június 7-én egyházközségi napot szervez\, amelyre szeretettel várjuk a híveket. \nProgram: Kirándulás a miklósfai parkerdőbe. \n9:00 Indulás a nagykanizsai Szent József-térről gyalog a miklósfai parkerdőbe\n11:00 „Együtt könnyebb!” (QR-kódos feladatok megoldása csoportokban)\n12:00 Szendvicsebéd\n13:00 Számháború\n14:00 „Fuss és keresd!”- szalagkereső játék\n14:30 Eredményhirdetés\n15:00 Hazaindulás a 15:10-kor induló autóbusszal \nA program csak jó idő esetén lesz megtartva! \nAki nem tud velünk gyalogolni\, busszal\, autóval is csatlakozhat hozzánk Miklósfán. \nNaptejről\, kullancsriasztóról\, innivalóról mindenki maga gondoskodjon!\nKérjük\, segítsék munkánkat azzal\, hogy június 4-ig visszajeleznek számunkra arról\, ha részt tudnak venni a programunkon!
URL:https://www.szentjozsefplebania.hu/esemeny/egyhazkozsegi-nap-miklosfan/
LOCATION:Miklósfa
ORGANIZER;CN="Szent J%C3%B3zsef Pl%C3%A9b%C3%A1nia%2C Nagykanizsa":MAILTO:iroda@szentjozsefplebania.hu
END:VEVENT
BEGIN:VEVENT
DTSTART;TZID=UTC:20250609T120000
DTEND;TZID=UTC:20250609T170000
DTSTAMP:20260420T054002
CREATED:20250522T150931Z
LAST-MODIFIED:20250522T150931Z
UID:3289-1749470400-1749488400@www.szentjozsefplebania.hu
SUMMARY:Szentségimádás
DESCRIPTION:Június 9-én\, pünkösdhétfőn szentségimádást tartunk\, melyre szeretettel várjuk a testvéreket. A szentségimádási órákban plébániánk közösségei vezetik az imádságot az alábbi beosztás szerint:\n12 óra: szentségkitétel (orgonával)\n12.05-13 óráig: férfi imacsoport\n13-14 óráig: Mária-kör\, rózsafüzér társulat\n14-15 óráig: takarító csoport\n15-16 óráig: plébániai tanácsadó testület\n16-16.55 óráig: gitáros közösség\n16.55 óra: szentségeltétel (orgonával)\n17 órától a szokásos hétfői alsóvárosi orgonaszó kezdődik\, majd 17.30 órától a via lucis (világosság útja) húsvéti ájtatosság utolsó alkalma\, melyet akolitusaink vezetnek.
URL:https://www.szentjozsefplebania.hu/esemeny/szentsegimadas-10/
LOCATION:Nagykanizsa\, Zárda u. 1/A
ORGANIZER;CN="Szent J%C3%B3zsef Pl%C3%A9b%C3%A1nia%2C Nagykanizsa":MAILTO:iroda@szentjozsefplebania.hu
END:VEVENT
BEGIN:VEVENT
DTSTART;TZID=UTC:20250622T100000
DTEND;TZID=UTC:20250622T111500
DTSTAMP:20260420T054002
CREATED:20250522T151558Z
LAST-MODIFIED:20250522T151558Z
UID:3290-1750586400-1750590900@www.szentjozsefplebania.hu
SUMMARY:Elsőáldozás
DESCRIPTION:Szeretettel várunk mindenkit elsőáldozási szentmisénkre június 22-én\, vasárnap\, Úrnapján\, 10 órakor. A szentmise végén jó idő esetén megtartjuk a szokásos úrnapi körmenetet.
URL:https://www.szentjozsefplebania.hu/esemeny/elsoaldozas-2/
LOCATION:Nagykanizsa\, Zárda u. 1/A
ORGANIZER;CN="Szent J%C3%B3zsef Pl%C3%A9b%C3%A1nia%2C Nagykanizsa":MAILTO:iroda@szentjozsefplebania.hu
END:VEVENT
END:VCALENDAR